BEGIN:VCALENDAR
VERSION:2.0
PRODID:-//wp-events-plugin.com//7.2.3.1//EN
TZID:America/Chicago
X-WR-TIMEZONE:America/Chicago
BEGIN:VEVENT
UID:240@austinfcc.org
DTSTART;TZID=America/Chicago:20260518T190000
DTEND;TZID=America/Chicago:20260518T210000
DTSTAMP:20260421T023643Z
URL:https://www.austinfcc.org/events/virtual-introductory-session-to-the-c
 reighton-fertilitycare-system/
SUMMARY:Virtual Introductory Session to the Creighton FertilityCare System
DESCRIPTION:An Virtual Introductory Session will be held on Monday\, May 18
 th from 7 pm to 9pm via Zoom. Cost of this class is $65.\n\nThis is the in
 itial step in learning the Creighton model system.  After attending this 
 general class\, you will be given the opportunity to enroll to continue th
 e program. Upon enrolling\, materials to begin charting will need to be pu
 rchased for a $45 fee.\n\nCouples only need to purchase one ticket.
CATEGORIES:Introductory Session
END:VEVENT
BEGIN:VTIMEZONE
TZID:America/Chicago
X-LIC-LOCATION:America/Chicago
BEGIN:DAYLIGHT
DTSTART:20260308T030000
TZOFFSETFROM:-0600
TZOFFSETTO:-0500
TZNAME:CDT
END:DAYLIGHT
END:VTIMEZONE
END:VCALENDAR