BEGIN:VCALENDAR
VERSION:2.0
PRODID:-//wp-events-plugin.com//7.2.3.1//EN
TZID:America/Chicago
X-WR-TIMEZONE:America/Chicago
BEGIN:VEVENT
UID:207@austinfcc.org
DTSTART;TZID=America/Chicago:20260414T200000
DTEND;TZID=America/Chicago:20260414T213000
DTSTAMP:20251216T234554Z
URL:https://www.austinfcc.org/events/sesion-de-introduccion-modelo-creight
 on-en-espanol/
SUMMARY:Sesión de Introducción- Modelo Creighton en Español
DESCRIPTION:Una sesión de introducción se llevará a cabo el martes\, 14 
 de abril de 8:00 pm a 9:30 pm de manera virtual (online) usando Zoom.\n\nP
 ara participar\, necesitará una computadora\, tableta o teléfono intelig
 ente (Smart phone) con acceso a Internet. Si decide usar una tableta o un 
 teléfono inteligente\, deberá descargar la aplicación "ZOOM Cloud Meeti
 ngs". Esta es una aplicación gratuita y se puede encontrar en el App Stor
 e o en Google Play. Si decide usar su computadora\, el navegador web se de
 scargará automáticamente cuando comience la clase de Zoom\, y también e
 stá disponible para descarga manual aquí.\n\nEste es el primer paso para
  aprender el Sistema Modelo Creighton FertilityCare. Después de asistir a
  esta primera clase\, usted tendrá la oportunidad de inscribirse para seg
 uir aprendiendo el método. Es entonces cuando se le asignará una maestra
  y se le entregarán materiales para comenzar a graficar.\n\nLa sesión de
  introducción tiene un costo de $65 dólares\, los cuales deben pagarse p
 or internet (más los $2.44 de la transacción).\n\nSi usted desea continu
 ar aprendiendo el Método Creighton\, se le asignará una maestra y podrá
  adquirir los materiales después de la sesión de introducción. El costo
  del material es de $45 dólares adicionales al costo de la sesión de int
 roducción. Usted puede seleccionar pagar el precio total de $110 hoy por 
 internet si sabe que comenzará a graficar después de la sesión (más lo
 s $4.33 de la transacción) y puede pasar a recoger los materiales en una 
 dirección que le proporcionaremos. De esta manera no tendrá que pagar po
 r inscripción y materiales después de la clase. Los materiales pueden en
 viarse por correo por $10 adicionales ($120 en total mas $4.64 de transacc
 ión).\nFavor de seleccionar 1 asistente para parejas o para mujeres solte
 ras con un segundo participante\n1 pareja = 1 asistente\nMujeres solteras 
 con un segundo participante= 1 participante
CATEGORIES:Sesion de Introduccion
END:VEVENT
BEGIN:VTIMEZONE
TZID:America/Chicago
X-LIC-LOCATION:America/Chicago
BEGIN:DAYLIGHT
DTSTART:20260308T030000
TZOFFSETFROM:-0600
TZOFFSETTO:-0500
TZNAME:CDT
END:DAYLIGHT
END:VTIMEZONE
END:VCALENDAR