BEGIN:VCALENDAR
VERSION:2.0
PRODID:-//wp-events-plugin.com//7.2.3.1//EN
TZID:America/Chicago
X-WR-TIMEZONE:America/Chicago
BEGIN:VEVENT
UID:238@austinfcc.org
DTSTART;TZID=America/Chicago:20260919T130000
DTEND;TZID=America/Chicago:20260919T150000
DTSTAMP:20260114T150255Z
URL:https://www.austinfcc.org/events/sesion-de-introduccion-modelo-creight
 on-en-espanol-33/
SUMMARY:Sesión de Introducción- Modelo Creighton en Español
DESCRIPTION:Una sesión de introducción se llevará a cabo el sábado 19 d
 e septiembre de 1:00 pm a 3:00 pm en la Parroquia St Williams ubicada en R
 ound Rock: 620 Round Rock W Dr. Round Rock\, TX. 78681. PEC\, Blg 5. Room 
 104.\n\nEste es el primer paso para aprender el Sistema Modelo Creighton F
 ertilityCare. Después de asistir a esta primera clase\, usted tendrá la 
 oportunidad de inscribirse para seguir aprendiendo el método. Es entonces
  cuando se le asignará una maestra y se le entregarán materiales para co
 menzar a graficar.\n\nLa sesión de introducción tiene un costo de $65 d
 ólares\, los cuales pueden pagarse hoy por internet (más los $2.44 de la
  transacción) o con efectivo en Kyle.\n\nSi usted desea continuar aprendi
 endo el Método Creighton\, se le asignará una maestra y podrá adquirir 
 los materiales después de la sesión de introducción. El costo del mater
 ial es de $45 dólares adicionales al costo de la sesión de introducción
 . Usted puede seleccionar pagar el precio total de $110 hoy por internet s
 i sabe que comenzará a graficar después de la sesión (más los $4.33 de
  la transacción) y puede pasar a recoger los materiales en Kyle. De esta 
 manera no tendrá que pagar por inscripción y materiales después de la c
 lase. Los materiales pueden enviarse por correo por $10 adicionales ($120 
 en total mas $4.64 de transacción).\nFavor de seleccionar 1 asistente par
 a parejas o para mujeres solteras con un segundo participante\n1 pareja = 
 1 asistente\nMujeres solteras con un segundo participante= 1 participante
CATEGORIES:Sesion de Introduccion
LOCATION:St Williams Catholic Church\, 620 Round Rock W Dr. Round Rock\, TX
 . 78681. PEC\, Blg 5. Room 104.\, Round Rock\, Texas\, 78681\, United Stat
 es
X-APPLE-STRUCTURED-LOCATION;VALUE=URI;X-ADDRESS=620 Round Rock W Dr. Round 
 Rock\, TX. 78681. PEC\, Blg 5. Room 104.\, Round Rock\, Texas\, 78681\, Un
 ited States;X-APPLE-RADIUS=100;X-TITLE=St Williams Catholic Church:geo:0,0
END:VEVENT
BEGIN:VTIMEZONE
TZID:America/Chicago
X-LIC-LOCATION:America/Chicago
BEGIN:DAYLIGHT
DTSTART:20260308T030000
TZOFFSETFROM:-0600
TZOFFSETTO:-0500
TZNAME:CDT
END:DAYLIGHT
END:VTIMEZONE
END:VCALENDAR