BEGIN:VCALENDAR
VERSION:2.0
PRODID:-//wp-events-plugin.com//7.2.3.1//EN
TZID:America/Chicago
X-WR-TIMEZONE:America/Chicago
BEGIN:VEVENT
UID:236@austinfcc.org
DTSTART;TZID=America/Chicago:20260117T130000
DTEND;TZID=America/Chicago:20260117T150000
DTSTAMP:20260114T145923Z
URL:https://www.austinfcc.org/events/sesion-de-introduccion-modelo-creight
 on-en-espanol-30/
SUMMARY:Sesión de Introducción- Modelo Creighton en Español
DESCRIPTION:Una sesión de introducción se llevará a cabo el sábado 17 d
 e enero de 1:00 pm a 3:00 pm en la Parroquia St Williams ubicada en Round 
 Rock: 620 Round Rock W Dr. Round Rock\, TX. 78681. PEC\, Blg 5. Room 104.\
 n\nEste es el primer paso para aprender el Sistema Modelo Creighton Fertil
 ityCare. Después de asistir a esta primera clase\, usted tendrá la oport
 unidad de inscribirse para seguir aprendiendo el método. Es entonces cuan
 do se le asignará una maestra y se le entregarán materiales para comenza
 r a graficar.\n\nLa sesión de introducción tiene un costo de $65 dólare
 s\, los cuales pueden pagarse hoy por internet (más los $2.44 de la trans
 acción) o con efectivo en Kyle.\n\nSi usted desea continuar aprendiendo e
 l Método Creighton\, se le asignará una maestra y podrá adquirir los ma
 teriales después de la sesión de introducción. El costo del material es
  de $45 dólares adicionales al costo de la sesión de introducción. Uste
 d puede seleccionar pagar el precio total de $110 hoy por internet si sabe
  que comenzará a graficar después de la sesión (más los $4.33 de la tr
 ansacción) y puede pasar a recoger los materiales en Kyle. De esta manera
  no tendrá que pagar por inscripción y materiales después de la clase. 
 Los materiales pueden enviarse por correo por $10 adicionales ($120 en tot
 al mas $4.64 de transacción).\nFavor de seleccionar 1 asistente para pare
 jas o para mujeres solteras con un segundo participante\n1 pareja = 1 asis
 tente\nMujeres solteras con un segundo participante= 1 participante
CATEGORIES:Sesion de Introduccion
LOCATION:St Williams Catholic Church\, 620 Round Rock W Dr. Round Rock\, TX
 . 78681. PEC\, Blg 5. Room 104.\, Round Rock\, Texas\, 78681\, United Stat
 es
X-APPLE-STRUCTURED-LOCATION;VALUE=URI;X-ADDRESS=620 Round Rock W Dr. Round 
 Rock\, TX. 78681. PEC\, Blg 5. Room 104.\, Round Rock\, Texas\, 78681\, Un
 ited States;X-APPLE-RADIUS=100;X-TITLE=St Williams Catholic Church:geo:0,0
END:VEVENT
BEGIN:VTIMEZONE
TZID:America/Chicago
X-LIC-LOCATION:America/Chicago
BEGIN:STANDARD
DTSTART:20251102T010000
TZOFFSETFROM:-0500
TZOFFSETTO:-0600
TZNAME:CST
END:STANDARD
END:VTIMEZONE
END:VCALENDAR