BEGIN:VCALENDAR
VERSION:2.0
PRODID:-//wp-events-plugin.com//7.2.3.1//EN
TZID:America/Chicago
X-WR-TIMEZONE:America/Chicago
BEGIN:VEVENT
UID:211@austinfcc.org
DTSTART;TZID=America/Chicago:20260818T200000
DTEND;TZID=America/Chicago:20260818T213000
DTSTAMP:20251217T002453Z
URL:https://www.austinfcc.org/events/sesion-de-introduccion-modelo-creight
 on-en-espanol-29/
SUMMARY:Sesión de Introducción- Modelo Creighton en Español
DESCRIPTION:Una sesión de introducción se llevará a cabo el martes\, 18 
 de agusto de 8:00 pm a 9:30 pm de manera virtual (online) usando Zoom.\n\n
 Para participar\, necesitará una computadora\, tableta o teléfono inteli
 gente (Smart phone) con acceso a Internet. Si decide usar una tableta o un
  teléfono inteligente\, deberá descargar la aplicación "ZOOM Cloud Meet
 ings". Esta es una aplicación gratuita y se puede encontrar en el App Sto
 re o en Google Play. Si decide usar su computadora\, el navegador web se d
 escargará automáticamente cuando comience la clase de Zoom\, y también 
 está disponible para descarga manual aquí.\n\nEste es el primer paso par
 a aprender el Sistema Modelo Creighton FertilityCare. Después de asistir 
 a esta primera clase\, usted tendrá la oportunidad de inscribirse para se
 guir aprendiendo el método. Es entonces cuando se le asignará una maestr
 a y se le entregarán materiales para comenzar a graficar.\n\nLa sesión d
 e introducción tiene un costo de $65 dólares\, los cuales deben pagarse 
 por internet (más los $2.44 de la transacción).\n\nSi usted desea contin
 uar aprendiendo el Método Creighton\, se le asignará una maestra y podr
 á adquirir los materiales después de la sesión de introducción. El cos
 to del material es de $45 dólares adicionales al costo de la sesión de i
 ntroducción. Usted puede seleccionar pagar el precio total de $110 hoy po
 r internet si sabe que comenzará a graficar después de la sesión (más 
 los $4.33 de la transacción) y puede pasar a recoger los materiales en un
 a dirección que le proporcionaremos. De esta manera no tendrá que pagar 
 por inscripción y materiales después de la clase. Los materiales pueden 
 enviarse por correo por $10 adicionales ($120 en total mas $4.64 de transa
 cción).\nFavor de seleccionar 1 asistente para parejas o para mujeres sol
 teras con un segundo participante\n1 pareja = 1 asistente\nMujeres soltera
 s con un segundo participante= 1 participante
CATEGORIES:Sesion de Introduccion
END:VEVENT
BEGIN:VTIMEZONE
TZID:America/Chicago
X-LIC-LOCATION:America/Chicago
BEGIN:DAYLIGHT
DTSTART:20260308T030000
TZOFFSETFROM:-0600
TZOFFSETTO:-0500
TZNAME:CDT
END:DAYLIGHT
END:VTIMEZONE
END:VCALENDAR