BEGIN:VCALENDAR
VERSION:2.0
PRODID:-//wp-events-plugin.com//7.2.3.1//EN
TZID:America/Chicago
X-WR-TIMEZONE:America/Chicago
BEGIN:VEVENT
UID:227@austinfcc.org
DTSTART;TZID=America/Chicago:20261124T190000
DTEND;TZID=America/Chicago:20261124T203000
DTSTAMP:20251217T040331Z
URL:https://www.austinfcc.org/events/pnf-para-parejas-comprometidas-44/
SUMMARY:PNF para Parejas comprometidas
DESCRIPTION:Una clase de Planificación Natural de la Familia (PNF) para pa
 rejas comprometidas se llevará a cabo el martes 24 de noviembre de 7:00pm
  a 8:30 pm usando Zoom (online).\n\nPara participar\, necesitará una comp
 utadora\, tableta o teléfono inteligente (Smart phone) con acceso a Inter
 net. Si decide usar una tableta o un teléfono inteligente\, deberá desca
 rgar la aplicación "ZOOM Cloud Meetings". Esta es una aplicación gratuit
 a y se puede encontrar en el App Store o en Google Play. Si decide usar su
  computadora\, el navegador web se descargará automáticamente cuando com
 ience la clase de Zoom\, y también está disponible para descarga manual 
 aquí.\n\nEsta clase cumple el requisito de seminario de introducción a l
 a PNF para las parejas que se preparan para el matrimonio en la Diócesis 
 de Austin.\n\nLas parejas que asistan a la clase obtendrán un certificado
  de asistencia al final de la sesión. La clase consiste en dos partes y d
 ura aproximadamente 2 horas:\n\n 	Enseñanzas de la iglesia Católica sobr
 e sexualidad y matrimonio.\n 	Repaso sobre nuestra fertilidad y cómo func
 iona nuestro cuerpo\, métodos aprobados por la Diócesis de Austin\, Intr
 oducción al método Creighton FertilityCare.\n\nLa clase tiene un costo d
 e $65 por pareja y se debe pagar online antes de la clase (incluye un cost
 o adicional).\n\nLas parejas comprometidas de  St Williams\, tengan en cu
 enta que esta clase es una clase de conocimiento\, y no la clase del Méto
 do Creighton. Por favor confirme con el director del programa de matrimoni
 o para verificar cuál clase cumplirá con los criterios de NFP en su parr
 oquia (PNFP para parejas comprometidas o Introducción al Método Creighto
 n FertilityCare).
CATEGORIES:PNF Parejas Comprometidas
END:VEVENT
BEGIN:VTIMEZONE
TZID:America/Chicago
X-LIC-LOCATION:America/Chicago
BEGIN:STANDARD
DTSTART:20261101T010000
TZOFFSETFROM:-0500
TZOFFSETTO:-0600
TZNAME:CST
END:STANDARD
END:VTIMEZONE
END:VCALENDAR