BEGIN:VCALENDAR
VERSION:2.0
PRODID:-//wp-events-plugin.com//7.2.3.1//EN
TZID:America/Chicago
X-WR-TIMEZONE:America/Chicago
BEGIN:VEVENT
UID:225@austinfcc.org
DTSTART;TZID=America/Chicago:20260923T200000
DTEND;TZID=America/Chicago:20260923T213000
DTSTAMP:20251217T035703Z
URL:https://www.austinfcc.org/events/pnf-para-parejas-comprometidas-42/
SUMMARY:PNF para Parejas comprometidas
DESCRIPTION:Una clase de Planificación Natural de la Familia (PNF) para pa
 rejas comprometidas se llevará a cabo el miercoles 23 de septiembre de 8:
 00pm a 9:30 pm usando Zoom (online).\n\nPara participar\, necesitará una 
 computadora\, tableta o teléfono inteligente (Smart phone) con acceso a I
 nternet. Si decide usar una tableta o un teléfono inteligente\, deberá d
 escargar la aplicación "ZOOM Cloud Meetings". Esta es una aplicación gra
 tuita y se puede encontrar en el App Store o en Google Play. Si decide usa
 r su computadora\, el navegador web se descargará automáticamente cuando
  comience la clase de Zoom\, y también está disponible para descarga man
 ual aquí.\n\nEsta clase cumple el requisito de seminario de introducción
  a la PNF para las parejas que se preparan para el matrimonio en la Dióce
 sis de Austin.\n\nLas parejas que asistan a la clase obtendrán un certifi
 cado de asistencia al final de la sesión. La clase consiste en dos partes
  y dura aproximadamente 2 horas:\n\n 	Enseñanzas de la iglesia Católica 
 sobre sexualidad y matrimonio.\n 	Repaso sobre nuestra fertilidad y cómo 
 funciona nuestro cuerpo\, métodos aprobados por la Diócesis de Austin\, 
 Introducción al método Creighton FertilityCare.\n\nLa clase tiene un cos
 to de $65 por pareja y se debe pagar online antes de la clase (incluye un 
 costo adicional).\n\nLas parejas comprometidas de  St Williams\, tengan e
 n cuenta que esta clase es una clase de conocimiento\, y no la clase del M
 étodo Creighton. Por favor confirme con el director del programa de matri
 monio para verificar cuál clase cumplirá con los criterios de NFP en su 
 parroquia (PNFP para parejas comprometidas o Introducción al Método Crei
 ghton FertilityCare).
CATEGORIES:PNF Parejas Comprometidas
END:VEVENT
BEGIN:VTIMEZONE
TZID:America/Chicago
X-LIC-LOCATION:America/Chicago
BEGIN:DAYLIGHT
DTSTART:20260308T030000
TZOFFSETFROM:-0600
TZOFFSETTO:-0500
TZNAME:CDT
END:DAYLIGHT
END:VTIMEZONE
END:VCALENDAR