BEGIN:VCALENDAR
VERSION:2.0
PRODID:-//wp-events-plugin.com//7.2.3.1//EN
TZID:America/Chicago
X-WR-TIMEZONE:America/Chicago
BEGIN:VEVENT
UID:221@austinfcc.org
DTSTART;TZID=America/Chicago:20260507T200000
DTEND;TZID=America/Chicago:20260507T213000
DTSTAMP:20260414T165717Z
URL:https://www.austinfcc.org/events/pnf-para-parejas-comprometidas-38/
SUMMARY:PNF para Parejas comprometidas
DESCRIPTION:Una clase de Planificación Natural de la Familia (PNF) para pa
 rejas comprometidas se llevará a cabo el jueves 7 de mayo de 8:00pm a 9:3
 0 pm usando Zoom (online).\n\nPara participar\, necesitará una computador
 a\, tableta o teléfono inteligente (Smart phone) con acceso a Internet. S
 i decide usar una tableta o un teléfono inteligente\, deberá descargar l
 a aplicación "ZOOM Cloud Meetings". Esta es una aplicación gratuita y se
  puede encontrar en el App Store o en Google Play. Si decide usar su compu
 tadora\, el navegador web se descargará automáticamente cuando comience 
 la clase de Zoom\, y también está disponible para descarga manual aquí.
 \n\nEsta clase cumple el requisito de seminario de introducción a la PNF 
 para las parejas que se preparan para el matrimonio en la Diócesis de Aus
 tin.\n\nLas parejas que asistan a la clase obtendrán un certificado de as
 istencia al final de la sesión. La clase consiste en dos partes y dura ap
 roximadamente 2 horas:\n\n 	Enseñanzas de la iglesia Católica sobre sexu
 alidad y matrimonio.\n 	Repaso sobre nuestra fertilidad y cómo funciona n
 uestro cuerpo\, métodos aprobados por la Diócesis de Austin\, Introducci
 ón al método Creighton FertilityCare.\n\nLa clase tiene un costo de $65 
 por pareja y se debe pagar online antes de la clase (incluye un costo adic
 ional).\n\nLas parejas comprometidas de  St Williams\, tengan en cuenta q
 ue esta clase es una clase de conocimiento\, y no la clase del Método Cre
 ighton. Por favor confirme con el director del programa de matrimonio para
  verificar cuál clase cumplirá con los criterios de NFP en su parroquia 
 (PNFP para parejas comprometidas o Introducción al Método Creighton Fert
 ilityCare).
CATEGORIES:PNF Parejas Comprometidas
END:VEVENT
BEGIN:VTIMEZONE
TZID:America/Chicago
X-LIC-LOCATION:America/Chicago
BEGIN:DAYLIGHT
DTSTART:20260308T030000
TZOFFSETFROM:-0600
TZOFFSETTO:-0500
TZNAME:CDT
END:DAYLIGHT
END:VTIMEZONE
END:VCALENDAR