BEGIN:VCALENDAR
VERSION:2.0
PRODID:-//wp-events-plugin.com//7.2.3.1//EN
TZID:America/Chicago
X-WR-TIMEZONE:America/Chicago
BEGIN:VEVENT
UID:219@austinfcc.org
DTSTART;TZID=America/Chicago:20261117T190000
DTEND;TZID=America/Chicago:20261117T210000
DTSTAMP:20251217T033749Z
URL:https://www.austinfcc.org/events/nfp-class-for-engaged-couples-41/
SUMMARY:NFP class for Engaged Couples
DESCRIPTION:An English NFP Engaged Couple Session will be held on Tuesday\
 , November 17th online using Zoom from 7 pm- 9 pm.\n\nThis class meets t
 he criteria for the  NFP awareness seminar for those couples preparing fo
 r marriage in the Austin Diocese.   \n\nAn attendance certificate will b
 e issued at the end of class\, which lasts about 2 hours with a short brea
 k. Class registration will end 2 days before class date.\n\nCost is $65 pe
 r couple.  Online payment is preferred (includes a $2.44 fee)\, or paymen
 t may be made prior to the day of with cash or check.\n\nSt Williams engag
 ed couples\, please note this class is an awareness class\, and not the Cr
 eighton method class. Please confirm with the marriage program director as
  to which class requirement will meet the NFP criteria in your parish. \n
 \n&nbsp\;
CATEGORIES:NFP for Engaged Couples
END:VEVENT
BEGIN:VTIMEZONE
TZID:America/Chicago
X-LIC-LOCATION:America/Chicago
BEGIN:STANDARD
DTSTART:20261101T010000
TZOFFSETFROM:-0500
TZOFFSETTO:-0600
TZNAME:CST
END:STANDARD
END:VTIMEZONE
END:VCALENDAR