BEGIN:VCALENDAR
VERSION:2.0
PRODID:-//wp-events-plugin.com//7.2.3.1//EN
TZID:America/Chicago
X-WR-TIMEZONE:America/Chicago
BEGIN:VEVENT
UID:217@austinfcc.org
DTSTART;TZID=America/Chicago:20260922T190000
DTEND;TZID=America/Chicago:20260922T210000
DTSTAMP:20251217T033504Z
URL:https://www.austinfcc.org/events/nfp-class-for-engaged-couples-39/
SUMMARY:NFP class for Engaged Couples
DESCRIPTION:An English NFP Engaged Couple Session will be held on Tuesday\
 , September 22th online using Zoom from 7 pm- 9 pm.\n\nThis class meets 
 the criteria for the  NFP awareness seminar for those couples preparing f
 or marriage in the Austin Diocese.   \n\nAn attendance certificate will 
 be issued at the end of class\, which lasts about 2 hours with a short bre
 ak. Class registration will end 2 days before class date.\n\nCost is $65 p
 er couple.  Online payment is preferred (includes a $2.44 fee)\, or payme
 nt may be made prior to the day of with cash or check.\n\nSt Williams enga
 ged couples\, please note this class is an awareness class\, and not the C
 reighton method class. Please confirm with the marriage program director a
 s to which class requirement will meet the NFP criteria in your parish. \
 n\n&nbsp\;
CATEGORIES:NFP for Engaged Couples
END:VEVENT
BEGIN:VTIMEZONE
TZID:America/Chicago
X-LIC-LOCATION:America/Chicago
BEGIN:DAYLIGHT
DTSTART:20260308T030000
TZOFFSETFROM:-0600
TZOFFSETTO:-0500
TZNAME:CDT
END:DAYLIGHT
END:VTIMEZONE
END:VCALENDAR