BEGIN:VCALENDAR
VERSION:2.0
PRODID:-//wp-events-plugin.com//7.2.3.1//EN
TZID:America/Chicago
X-WR-TIMEZONE:America/Chicago
BEGIN:VEVENT
UID:239@austinfcc.org
DTSTART;TZID=America/Chicago:20260420T190000
DTEND;TZID=America/Chicago:20260420T210000
DTSTAMP:20260408T213814Z
URL:https://www.austinfcc.org/events/introductory-session-to-the-creighton
 -fertilitycare-system-virtual/
SUMMARY:Virtual Introductory Session to the Creighton FertilityCare System
DESCRIPTION:An Introductory Session will be held on Monday\, April 20th f
 rom 7 pm to 9 pm online using Zoom.\n\nThis is the initial step in learnin
 g the Creighton model system.   After attending this general class\, you 
 will be given the opportunity to enroll in continuing the program.  This 
 is where a teacher will be assigned and charting can begin with materials.
 \n\nCost of this class is $65\, paid online today (plus a $1.82 transactio
 n fee).\n\nAdditionally\, to continue the Creighton system program with te
 acher assignment and materials\, a cost of $45 will be due after the class
 . Materials can be picked up at our Northwest Austin location or they can
  be shipped to you for $10. You may select to pay the total price of $110.
 00 today (plus $2.73 transaction fee) if you know you will begin charting 
 AND you can pick up the materials at one of the locations. Or you can pay 
 $120 (plus $2.93 transaction fee) if you want your materials mailed to you
 . No cost will be incurred after class time in this case. \n\nPlease sele
 ct 1 ticket/registration per couple. 
CATEGORIES:Introductory Session
END:VEVENT
BEGIN:VTIMEZONE
TZID:America/Chicago
X-LIC-LOCATION:America/Chicago
BEGIN:DAYLIGHT
DTSTART:20260308T030000
TZOFFSETFROM:-0600
TZOFFSETTO:-0500
TZNAME:CDT
END:DAYLIGHT
END:VTIMEZONE
END:VCALENDAR