BEGIN:VCALENDAR
VERSION:2.0
PRODID:-//wp-events-plugin.com//7.2.3.1//EN
TZID:America/Chicago
X-WR-TIMEZONE:America/Chicago
BEGIN:VEVENT
UID:233@austinfcc.org
DTSTART;TZID=America/Chicago:20261124T190000
DTEND;TZID=America/Chicago:20261124T210000
DTSTAMP:20251217T042413Z
URL:https://www.austinfcc.org/events/introductory-session-to-the-creighton
 -fertilitycare-system-72/
SUMMARY:Introductory Session to the Creighton FertilityCare System
DESCRIPTION:An Introductory Session will be held on Tuesday\, November 24t
 h from 7 pm to 9 pm PEC\, Blg 5. Room 104\,  on the campus of St William 
 Catholic Church: 620 Round Rock W Dr. Round Rock\, TX. 78681. \n\nLocatio
 n: Saint Williams PEC\, Blg 5. Room 104.\n\nThis is the initial step in le
 arning the Creighton model system.   After attending this general class\,
  you will be given the opportunity to enroll in continuing the program.  
 This is where a teacher will be assigned and charting can begin with mater
 ials.\n\nCost of this class is $65\, paid online today ($2.44 transaction 
 fee).\n\nAdditionally\, to continue the Creighton system program with teac
 her assignment and materials\, a cost of $45 will be due after the class. 
 Materials can be shipped to you for $10 or they can also be picked up in t
 he in-person class.  You may select to pay the total price of $110 today 
 (plus $4.33 transaction fee) if you know you will begin charting AND you w
 ill receive materials the day of the Intro Session. Or you can pay $120 (p
 lus $4.64 transaction fee) if you want your materials mailed to you. No co
 st will be incurred after class time in this case. \nPlease select 1 tick
 et/registration for couples or for  Single woman with a 2nd participant 
CATEGORIES:Introductory Session
LOCATION:St. William Catholic Church\, 620 Round Rock W Dr.\, Round Rock\, 
 Texas\, 78681\, United States
X-APPLE-STRUCTURED-LOCATION;VALUE=URI;X-ADDRESS=620 Round Rock W Dr.\, Roun
 d Rock\, Texas\, 78681\, United States;X-APPLE-RADIUS=100;X-TITLE=St. Will
 iam Catholic Church:geo:0,0
END:VEVENT
BEGIN:VTIMEZONE
TZID:America/Chicago
X-LIC-LOCATION:America/Chicago
BEGIN:STANDARD
DTSTART:20261101T010000
TZOFFSETFROM:-0500
TZOFFSETTO:-0600
TZNAME:CST
END:STANDARD
END:VTIMEZONE
END:VCALENDAR