BEGIN:VCALENDAR
VERSION:2.0
PRODID:-//wp-events-plugin.com//7.2.3.1//EN
TZID:America/Chicago
X-WR-TIMEZONE:America/Chicago
BEGIN:VEVENT
UID:232@austinfcc.org
DTSTART;TZID=America/Chicago:20261114T140000
DTEND;TZID=America/Chicago:20261114T160000
DTSTAMP:20251217T042152Z
URL:https://www.austinfcc.org/events/introductory-session-to-the-creighton
 -fertilitycare-system-71/
SUMMARY:Introductory Session to the Creighton FertilityCare System
DESCRIPTION:An Introductory Session will be held on Saturday\, November 14
 th from 2 pm to 4pm St Luke's Catholic Church: 2807 Oakdale Dr\, Temple\, 
 TX 76502.\n\nThis is the initial step in learning the Creighton model syst
 em.   After attending this general class\, you will be given the opportun
 ity to enroll in continuing the program.  This is where a teacher will be
  assigned and charting can begin with materials.\n\nCost of this class is 
 $65\, paid online today ($2.44 transaction fee).\n\nAdditionally\, to cont
 inue the Creighton system program with teacher assignment and materials\, 
 a cost of $45 will be due after the class. Materials can be shipped to you
  for $10 or they can also be picked up in the in-person class.  You may s
 elect to pay the total price of $110 today (plus $4.33 transaction fee) if
  you know you will begin charting AND you will pick up materials the day o
 f the Intro Session. Or you can pay $120 (plus $4.64 transaction fee) if y
 ou want your materials mailed to you. No cost will be incurred after class
  time in this case. \nPlease select 1 ticket/registration for couples or 
 for  Single woman with a 2nd participant 
CATEGORIES:Introductory Session
LOCATION:Saint Luke Catholic Church\, 2807 Oakdale Dr\, Temple\, Texas\, 76
 502\, United States
X-APPLE-STRUCTURED-LOCATION;VALUE=URI;X-ADDRESS=2807 Oakdale Dr\, Temple\, 
 Texas\, 76502\, United States;X-APPLE-RADIUS=100;X-TITLE=Saint Luke Cathol
 ic Church:geo:0,0
END:VEVENT
BEGIN:VTIMEZONE
TZID:America/Chicago
X-LIC-LOCATION:America/Chicago
BEGIN:STANDARD
DTSTART:20261101T010000
TZOFFSETFROM:-0500
TZOFFSETTO:-0600
TZNAME:CST
END:STANDARD
END:VTIMEZONE
END:VCALENDAR