BEGIN:VCALENDAR
VERSION:2.0
PRODID:-//wp-events-plugin.com//7.2.3.1//EN
TZID:America/Chicago
X-WR-TIMEZONE:America/Chicago
BEGIN:VEVENT
UID:229@austinfcc.org
DTSTART;TZID=America/Chicago:20260922T190000
DTEND;TZID=America/Chicago:20260922T210000
DTSTAMP:20251217T041225Z
URL:https://www.austinfcc.org/events/introductory-session-to-the-creighton
 -fertilitycare-system-68/
SUMMARY:Introductory Session to the Creighton FertilityCare System
DESCRIPTION:An Introductory Session will be held on Tuesday\, Septmeber 22
 th from 7 pm to 9 pm PEC\, Blg 5. Room 104\,  on the campus of St William
  Catholic Church: 620 Round Rock W Dr. Round Rock\, TX. 78681. \n\nLocati
 on: Saint Williams PEC\, Blg 5. Room 104.\n\nThis is the initial step in l
 earning the Creighton model system.   After attending this general class\
 , you will be given the opportunity to enroll in continuing the program. 
  This is where a teacher will be assigned and charting can begin with mat
 erials.\n\nCost of this class is $65\, paid online today ($2.44 transactio
 n fee).\n\nAdditionally\, to continue the Creighton system program with te
 acher assignment and materials\, a cost of $45 will be due after the class
 . Materials can be shipped to you for $10 or they can also be picked up in
  the in-person class.  You may select to pay the total price of $110 toda
 y (plus $4.33 transaction fee) if you know you will begin charting AND you
  will receive materials the day of the Intro Session. Or you can pay $120 
 (plus $4.64 transaction fee) if you want your materials mailed to you. No 
 cost will be incurred after class time in this case. \nPlease select 1 ti
 cket/registration for couples or for  Single woman with a 2nd participant
  
CATEGORIES:Introductory Session
LOCATION:St. William Catholic Church\, 620 Round Rock W Dr.\, Round Rock\, 
 Texas\, 78681\, United States
X-APPLE-STRUCTURED-LOCATION;VALUE=URI;X-ADDRESS=620 Round Rock W Dr.\, Roun
 d Rock\, Texas\, 78681\, United States;X-APPLE-RADIUS=100;X-TITLE=St. Will
 iam Catholic Church:geo:0,0
END:VEVENT
BEGIN:VTIMEZONE
TZID:America/Chicago
X-LIC-LOCATION:America/Chicago
BEGIN:DAYLIGHT
DTSTART:20260308T030000
TZOFFSETFROM:-0600
TZOFFSETTO:-0500
TZNAME:CDT
END:DAYLIGHT
END:VTIMEZONE
END:VCALENDAR