BEGIN:VCALENDAR
VERSION:2.0
PRODID:-//wp-events-plugin.com//7.2.3.1//EN
TZID:America/Chicago
X-WR-TIMEZONE:America/Chicago
BEGIN:VEVENT
UID:198@austinfcc.org
DTSTART;TZID=America/Chicago:20260509T140000
DTEND;TZID=America/Chicago:20260509T160000
DTSTAMP:20260409T005928Z
URL:https://www.austinfcc.org/events/introductory-session-to-the-creighton
 -fertilitycare-system-61/
SUMMARY:Introductory Session to the Creighton FertilityCare System
DESCRIPTION:An Introductory Session will be held on Saturday\, May 9th fro
 m 2 pm to 4pm at St Luke Catholic Church: 2807 Oakdale Dr\, Temple\, TX 76
 502. Cost of this class is $65.\n\nThis is the initial step in learning th
 e Creighton model system.  After attending this general class\, you will 
 be given the opportunity to enroll to continue the program. Upon enrolling
  charting supplies will need to be purchased for a $45 fee.\nCouples only 
 need to purchase one ticket.
CATEGORIES:Introductory Session
LOCATION:Saint Luke Catholic Church\, 2807 Oakdale Dr\, Temple\, Texas\, 76
 502\, United States
X-APPLE-STRUCTURED-LOCATION;VALUE=URI;X-ADDRESS=2807 Oakdale Dr\, Temple\, 
 Texas\, 76502\, United States;X-APPLE-RADIUS=100;X-TITLE=Saint Luke Cathol
 ic Church:geo:0,0
END:VEVENT
BEGIN:VTIMEZONE
TZID:America/Chicago
X-LIC-LOCATION:America/Chicago
BEGIN:DAYLIGHT
DTSTART:20260308T030000
TZOFFSETFROM:-0600
TZOFFSETTO:-0500
TZNAME:CDT
END:DAYLIGHT
END:VTIMEZONE
END:VCALENDAR