BEGIN:VCALENDAR
VERSION:2.0
PRODID:-//wp-events-plugin.com//7.2.3.1//EN
TZID:America/Chicago
X-WR-TIMEZONE:America/Chicago
BEGIN:VEVENT
UID:228@austinfcc.org
DTSTART;TZID=America/Chicago:20260912T140000
DTEND;TZID=America/Chicago:20260912T160000
DTSTAMP:20251217T040951Z
URL:https://www.austinfcc.org/events/introductory-session-to-the-creighton
 -fertilitycare-system-54/
SUMMARY:Introductory Session to the Creighton FertilityCare System
DESCRIPTION:An Introductory Session will be held on Saturday\, September 1
 2th from 2 pm to 4pm St Luke's Catholic Church: 2807 Oakdale Dr\, Temple\,
  TX 76502.\n\nThis is the initial step in learning the Creighton model sys
 tem.   After attending this general class\, you will be given the opportu
 nity to enroll in continuing the program.  This is where a teacher will b
 e assigned and charting can begin with materials.\n\nCost of this class is
  $65\, paid online today ($2.44 transaction fee).\n\nAdditionally\, to con
 tinue the Creighton system program with teacher assignment and materials\,
  a cost of $45 will be due after the class. Materials can be shipped to yo
 u for $10 or they can also be picked up in the in-person class.  You may 
 select to pay the total price of $110 today (plus $4.33 transaction fee) i
 f you know you will begin charting AND you will pick up materials the day 
 of the Intro Session. Or you can pay $120 (plus $4.64 transaction fee) if 
 you want your materials mailed to you. No cost will be incurred after clas
 s time in this case. \nPlease select 1 ticket/registration for couples or
  for  Single woman with a 2nd participant 
CATEGORIES:Introductory Session
LOCATION:Saint Luke Catholic Church\, 2807 Oakdale Dr\, Temple\, Texas\, 76
 502\, United States
X-APPLE-STRUCTURED-LOCATION;VALUE=URI;X-ADDRESS=2807 Oakdale Dr\, Temple\, 
 Texas\, 76502\, United States;X-APPLE-RADIUS=100;X-TITLE=Saint Luke Cathol
 ic Church:geo:0,0
END:VEVENT
BEGIN:VTIMEZONE
TZID:America/Chicago
X-LIC-LOCATION:America/Chicago
BEGIN:DAYLIGHT
DTSTART:20260308T030000
TZOFFSETFROM:-0600
TZOFFSETTO:-0500
TZNAME:CDT
END:DAYLIGHT
END:VTIMEZONE
END:VCALENDAR